Workbook
Name Acciones_Categoría_3: '[1]Ponderaciones y parámetros'!$K$6:$N$6
Name Nombre: #REF!
Name Nombre: #REF!
Name Simulador: [1]Listas!$B$2:$B$4

Sheet Inicio
C2: AUTODIAGNÓSTICO DE GESTIÓN
C4: POLÍTICA CONTROL INTERNO
D7: INSTRUCCIONES DE DILIGENCIAMIENTO
D10: AUTODIAGNÓSTICO
D13: PLAN DE ACCIÓN

Sheet Instrucciones
C3: AUTODIAGNÓSTICO DE GESTIÓN POLÍTICA DE CONTROL INTERNO
C5: INSTRUCCIONES DE DILIGENCIAMIENTO
C7: Este archivo hace parte de un conjunto de herramientas de Autodiagnóstico que permitirán a cada entidad desarrollar un ejercicio de valoración del estado de cada una de las dimensiones en las cuales se estructura el Modelo Integrado de Gestión y Planeación, con el propósito de que la entidad logre contar con una línea base respecto a los aspectos que debe fortalecer, los cuales deben ser incluídos en su planeación institucional. Este puede ser utilizado en el momento en que lo considere pertinente, sin implicar esto reporte alguno a Función Pública, a otras instancias del Gobierno o a organismos de Control.
C12: A continuación, se explica en detalle como se debe diligenciar.
C15: Autodiagnóstico:
C17: Está compuesto por las siguientes columnas:
C19: - | D19: Componentes: son los grandes temas que enmarcan la política objeto de medición.
C20: - | D20: Calificación: puntaje automático obtenido como resultado de la autocalificación que haga en el avance de la política.
C21: - | D21: Categoría: corresponde a las acciones que la entidad debe contemplar para el avance de la respectiva política.
C22: - | D22: Calificación: puntaje automatico obtenido como resultado de la autocalificación que haga en el avance de la política.
C23: - | D23: Actividades de Gestión: son las actividades puntuales que la entidad debe estar implementando para considerar el avance en la implementación de la política.
C24: - | D24: Puntaje: es la casilla donde la entidad se autocalificará de acuerdo con las actividades descritas, en una escala de 0 a 100
C25: - | D25: Observaciones: en este espacio, podrá hacer las anotaciones o comentarios que considere pertinentes
C27: Las ÚNICAS celdas que debe diligenciar son la del nombre de la Entidad y la columna de Puntaje (resaltada en azúl). La de observaciones de manera opcional si lo considera necesario.
C29: Para la calificación, se estableció una escala de 5 niveles así:
C31: Puntaje | D31: Nivel | E31: Color
C32: 0 - 20 | D32: 1
C33: 21 - 40 | D33: 2
C34: 41 - 60 | D34: 3
C35: 61- 80 | D35: 4
C36: 81- 100 | D36: 5
C38: Cuando se ingresa un puntaje, esa columna automáticamente mostrará el color que corresponde según la escala anterior. Así mismo, la calificación de las categorías, de los componentes y la calificación total se generan automáticamente. Recuerde sólo ingresar puntajes de 0 a 100
C41: Los resultados finales solo reflejarán el resultado de los puntajes diligenciados. Si alguna casilla se deja en blanco, no contará para los resultados
C43: Si usted considera que alguna de las actividades no aplica para su Entidad por sus características particulares, no diligencie puntaje, y en la columna Observaciones escriba "No aplica". Por ejemplo, si en su entidad no se efectúan negociaciones colectivas por no haber sindicatos, en el ítem "Negociación Colectiva" usted no deberá ingresar ningún puntaje y deberá escribir en la columna Observaciones "No aplica"
C47: ES MUY IMPORTANTE que los puntajes ingresados sean lo más objetivos posible, y que exista un soporte para cada uno de ellos. El propósito principal es identificar oportunidades de mejora, para lo cual es fundamental ser objetivos en los puntajes ingresados.
C50: Cuando finalice de calificar las actividades de gestión, podrá ver de manera gráfica los principales resultados, haciendo click en el botón GRÁFICAS, o regresar al menú principal.
C53: Gráficas:
C55: En esta hoja se podrán visualizar de una manera más clara y sencilla los resultados obtenidos. Estas se generarán automáticamente una vez sea diligenciado el autodiagnóstico.
C57: En la primera gráfica, se muestra el puntaje total obtenido por la entidad, comparado con cada uno de los niveles de calificación. De esta manera podrá visualizar en que nivel se encuentra actualmente y cuantos le faltan para alcanzar el maximo puntaje.
C60: En la segunda gráfica se presentan las calificaciones obtenidas por cada uno de los componentes que integran la política. Igualmente se comparan con los 5 niveles establecidos.
C62: Y por último, se muestra la calificación por categorías. Dado que el número de categorías es muy grande, se dividieron en varias gráficas.
C65: En conjunto, estos resultados le permitirán identificar cuales son las categorías y componentes que presentan un mayor rezago, o cuya implementación está más retrasada, y así poder centrar su prioridad al momento de realizar el plan de implementación.
C69: Plan de Acción:
... C75: Planeación y Ruta de acción (color naranja): la idea es generar un plan de acción con base en el diagnóstico realizado. Los elementos mínimos que se proponen para ello, son:
C77: - | D77: Diseñar alternativas de mejora
C78: - | D78: Definir las mejoras a implementar, incluyendo el plazo y los responsables de la implementación
C79: - | D79: Evaluar la eficacia de las acciones implementadas y volver a diligenciar el autodiagnóstico
C81: Aunque el cuadro puede ser diligenciado en su totalidad, se recomienda iniciar y darle prioridad a aquellas actividades que obtuvieron menores puntajes y que se encuentran en color rojo, naranja y amarillo.
K92: INICIO

Sheet Autodiagnóstico
C4: AUTODIAGNÓSTICO GESTIÓN POLÍTICA DE CONTROL INTERNO
C6: ENTIDAD | G6: CALIFICACIÓN TOTAL
C7: AGUAS DEL CESAR S.A E.S.P | G7: =IF(SUM(H11:H129)=0,"",AVERAGE(H11:H129)) -> 77.62931
C9: COMPONENTES | D9: CALIFICACIÓN | E9: CATEGORÍAS | F9: CALIFICACIÓN | G9: ACTIVIDADES DE GESTIÓN | H9: PUNTAJE (0 - 100) | I9: OBSERVACIONES
C11: Ambiente de Control | D11: =IF(SUM(H11:H35)=0,"",AVERAGE(H11:H35)) -> 77.045455 | E11: Diseño adecuado y efectivo del componente Ambiente de Control | F11: =IF(SUM(H11:H15)=0,"",AVERAGE(H11:H15)) -> 86 | G11: Demostrar el compromiso con la integridad (valores) y principios del servicio público, por parte detodos los servidores de la entidad, independientemente de las funciones que desepeñan | H11: 80 | I11: El Codigo de integridad se encuentra debidamente ajustado de acuerdo a los nuevos parametros expedidos por la Funcion Publica
G12: Cumplir las funciones de supervisión del desempeño del Sistema de Control Interno y determinar las mejoras a que haya lugar, por parte del Comité Institucional de Coordinación de Control Interno | H12: 80 | I12: La entidad tiene conformado y se reune en el Comité Institucional de Coordinacion de Control Interno y el Municipal de Auditoria, de conformidad con los articulos 2.2.21.1.5 y 2.2.21.3.14 del Decreto 648 de 2017. | L12: INICIO
G13: Asumir la responsabilidad y el compromiso de establecer los niveles de responsabilidad y autoridad apropiados para la consecución de los objetivos institucionales, por parte de la alta dirección | H13: 90 | I13: Las funciones de Control Interno de la entidad se encuentran descrita en el Manual de Funciones y es responsable el Jefe de Control Interno del SIVA SAS.
G14: Dar carácter estratégico a la gestión del talento humano de manera que todas sus actividades estén alineadas con los objetivos de la entidad | H14: 90 | I14: Se realiza seguimiento al Plan de Bienestar Social Laboral y del Plan Institucional de Capacitacion, los cuales fueron adoptados mediante Resolucion Nº de 2018, y se encuentran en desarrolo el Plan estrategico de talento humano, el Plan Anual de vacantes y el Plan de previson de Recursos Humanos
G15: Asignar en personas idóneas, las responsabilidades para la gestión de los riesgos y del control | H15: 90 | I15: El Jefe de Control Interno de la entidad ha asistido a eventos de Capacitacion de Control Interno que han servido de apoyo en materia de presentacion de informes. | L15: GRÁFICAS
E16: Responsabilidades de la Alta dirección y Comité Institucional de Coordinación de Control Interno (línea estratégica) | F16: =IF(SUM(H16:H19)=0,"",AVERAGE(H16:H19)) -> 70 | G16: Cumplir con los estándares de conducta y la práctica de los principios del servicio público | H16: 60 | I16: El Comité Institucional de Coordinacion de Control Interno debe ser ajustado de acuerdo a lo estipulado en la normatividad establecida en el MIPG
G17: Orientar el Direccionamiento Estratégico y la Planeación Institucional | H17: 70 | I17: El Comité Institucional de Coordinacion de Control Interno debe ser ajustado de acuerdo a lo estipulado en la normatividad establecida en el MIPG
G18: Determinar las políticas y estrategias que aseguran que la estructura, procesos, autoridad y responsabilidad estén claramente definidas para el logro de los objetivos de la entidad | H18: 70 | I18: El Comité Institucional de Coordinacion de Control Interno debe ser ajustado de acuerdo a lo estipulado en la normatividad establecida en el MIPG
G19: Desarrollar los mecanismos incorporados en la Gestión Estratégica del Talento Humano | H19: 80 | I19: El Comité Institucional de Coordinacion de Control Interno debe ser ajustado de acuerdo a lo estipulado en la normatividad establecida en el MIPG
E20: Responsabilidades gerentes públicos y líderes de proceso (primera Línea de defensa) | F20: =IF(SUM(H20:H24)=0,"",AVERAGE(H20:H24)) -> 73.333333 | G20: Promover y cumplir, a través de su ejemplo, los estándares de conducta y la práctica de los principios del servicio público, en el marco de integridad | H20: 70 | I20: El Codigo de integridad se encuentra debidamente ajustado de acuerdo a los nuevos parametros expedidos por la Funcion Publica
G21: Evaluar el cumplimiento de los estándares de conducta y la práctica de la integridad (valores) y principios del servicio público de sus equipos de trabajo | H21: 70 | I21: El Codigo de integridad se encuentra debidamente ajustado de acuerdo a los nuevos parametros expedidos por la Funcion Publica
G22: Proveer información a la alta dirección sobre el funcionamiento de la entidad y el desempeño de los responsables en el cumplimiento de los objetivos, para tomar decisiones a que haya lugar | H22: 80 | I22: Los lideres de procesos encargados controlan las actividades y presentan los respectivos informes para la rendicion de cuentas.
G23: Cumplir las políticas y estrategias establecidas para el desarrollo de los servidores a su cargo, evaluar su desempeño y establecer las medidas de mejora
G24: Asegurar que las personas y actividades a su cargo, estén adecuadamente alineadas con la administración
E25: Responsabilidades de los servidores encargados del monitoreo y evaluación de controles y gestión del riesgo (segunda línea de defensa) | F25: =IF(SUM(H25:H30)=0,"",AVERAGE(H25:H30)) -> 75 | G25: Aplicar los estándares de conducta e Integridad (valores) y los principios del servicio público | H25: 60 | I25: Fortalecer las capacitaciones en el tema
G26: Facilitar la implementación, monitorear la apropiación de dichos estándares por parte de los servidores públicos y alertar a los líderes de proceso, cuando sea el caso | H26: 80 | I26: La responsabilidad para garantizar el cumplimiento de la ejecucion de los contratos se delega en los supervisores e interventores y se respalda con garantias exigidas.
G27: Apoyar a la alta dirección, los gerentes públicos y los líderes de proceso para un adecuado y efectivo ejercicio de la gestión de los riesgos que afectan el cumplimiento de los objetivos y metas organizacionales | H27: 80 | I27: se realiza seguimiento a la matriz de riesgo institucional. En los estudios previos se realiza el analisis de riesgos para la definicion de los respectivos controles.
G28: Trabajar coordinadamente con los directivos y demás responsables del cumplimiento de los objetivos de la entidad | H28: 75 | I28: Los Interventores contratados y Supervisores de los contratos son los lideres de los procesos internos encargados presentan los informes y certificaciones de interventoria y supervision.
G29: Monitorear y supervisar el cumplimiento e impacto del plan de desarrollo del talento humano y determinar las acciones de mejora correspondientes, por parte del área de talento humano | H29: 80
G30: Analizar e informar a la alta dirección, los gerentes públicos y los líderes de proceso sobre los resultados de la evaluación del desempeño y se toman acciones de mejora y planes de mejoramiento individuales, rotación de personal | I30: Revisar si las evaluaciones son solo para carrera administrativa
E31: Responsabilidades del área de control interno (tercera línea de defensa) | F31: =IF(SUM(H31:H35)=0,"",AVERAGE(H31:H35)) -> 78 | G31: Evaluar la eficacia de las estrategias de la entidad para promover la integridad en el servicio público, especialmente, si con ella se orienta efectivamente el comportamiento de los servidores hacia el cumplimiento de los estándares de conducta e Integridad (valores) y los principios del servicio público; y si apalancan una gestión permanente de los riesgos y la eficacia de los controles | H31: 70 | I31: Se promueve actividades de formacion y capacitacion para la implementacion del Modelo Integrado de Planeacion y Gestion y su dimension central. Talento Humano. Fortalecer política de integridad en relación al los conflictos de interés.
G32: Evaluar el diseño y efectividad de los controles y provee información a la alta dirección y al Comité de Coordinación de Control Interno referente a la efectividad y utilidad de los mismos | H32: 80 | I32: Se diligencio el Formato Unico de Reporte de Avance de la Gestion Publica FURAG como punto de partida. Los resultados fueron socializados al interior de la entidad.
G33: Proporcionar información sobre la idoneidad y efectividad del esquema operativo de la entidad, el flujo de información, las políticas de operación, y en general, el ejercicio de las responsabilidades en la consecución de los objetivos | H33: 80
G34: Ejercer la auditoría interna de manera técnica y acorde con las políticas y prácticas apropiadas | H34: 80
G35: Proporcionar información sobre el cumplimiento de responsabilidades específicas de control interno | H35: 80
C36: Gestión de los riesgos institucionales | D36: =IF(SUM(H36:H63)=0,"",AVERAGE(H36:H63)) -> 73.035714 | E36: Diseño adecuado y efectivo del componente Gestión de Riesgos | F36: =IF(SUM(H36:H40)=0,"",AVERAGE(H36:H40)) -> 74 | G36: Identificar acontecimientos potenciales que, de ocurrir, afectarían a la entidad | H36: 75 | I36: Se cuenta con la matriz de riesgos institucional donde se encuentran identificados.
G37: Brindar atención prioritaria a los riesgos de carácter negativo y de mayor impacto potencial | H37: 75 | I37: Se formularon acciones para contrarrestar los riesgos de corrupcion, a los cuales se realiza seguimiento.
G38: Considerar la probabilidad de fraude que pueda afectar la adecuada gestión institucional | H38: 60
G39: Identificar y evaluar los cambios que pueden afectar los riesgos al Sistema de Control Interno | H39: 80 | I39: Se cuenta con la matriz de riesgos institucional donde se encuentran identificados.
G40: Dar cumplimiento al artículo 73 de la Ley 1474 de 2011, relacionado con la prevención de los riesgos de corrupción, - mapa de riesgos de corrupción. | H40: 80 | I40: El mapa de riesgos de corrupcion se elaboro de acuerdo con el documento "Guia para la gestion del riesgo de corrupcion" falta ajustrlo a la última guía.
E41: Responsabilidades de la Alta dirección y Comité Institucional de Coordinación de Control Interno (línea estratégica) | F41: =IF(SUM(H41:H45)=0,"",AVERAGE(H41:H45)) -> 75 | G41: Establecer objetivos institucionales alineados con el propósito fundamental, metas y estrategias de la entidad | H41: 65 | I41: Los objetivos institucionales se revisarán y se ajustarán conforme al objeto social de la entidad en en el marco del PDA
G42: Establecer la Política de Administración del Riesgo | H42: 80 | I42: Se encuentra establecida en la entidad, se debe actualizar.
G43: Asumir la responsabilidad primaria del Sistema de Control Interno y de la identificación y evaluación de los cambios que podrían tener un impacto significativo en el mismo | H43: 80 | I43: De conformidad con lo dispuesto en el articulo 6 de la Ley 87 de 1.993, el establecimiento y desarrollo del Sistema de Control Interno en los Organismos y Entidades publicas, sera responsabilidad del representante legal o maximo directivo correspondiente. No obstante la aplicacion de metodos y procedimientos al igual que la calidad, eficiencia y eficacia del Control Interno, tambien sera de responsabilidad de los jefes de cada una de las distintas dependencias de las entidades y organismos.
G44: Específicamente el Comité Institucional de Coordinación de Control Interno, evaluar y dar línea sobre la administración de los riesgos en la entidad | H44: 70 | I44: El Comité Institucional de Coordinacion de Control Interno debe ser ajustado de acuerdo a lo estipulado en la normatividad establecida en el MIPG
G45: Realimentar a la alta dirección sobre el monitoreo y efectividad de la gestión del riesgo y de los controles. Así mismo, hacer seguimiento a su gestión, gestionar los riesgos y aplicar los controles | H45: 80 | I45: El Comité Institucional de Coordinacion de Control Interno debe ser ajustado de acuerdo a lo estipulado en la normatividad establecida en el MIPG
E46: Responsabilidades gerentes públicos y líderes de proceso (primera Línea de defensa) | F46: =IF(SUM(H46:H49)=0,"",AVERAGE(H46:H49)) -> 67.5 | G46: Identificar y valorar los riesgos que pueden afectar el logro de los objetivos institucionales | H46: 70 | I46: Los lideres de los procesos participan en la identificacion y valoracion de riesgos de corrupcion. Los riesgos por proceso se deben fortalecer.
...

Sheet Gráficas
C3: RESULTADOS POLÍTICA CONTROL INTERNO
C6: 1. Calificación total:
J11: Niveles | K11: Calificación
I12: =Inicio!C4 -> POLÍTICA CONTROL INTERNO | J12: 100 | K12: =+Autodiagnóstico!G7 -> 77.62931
C28: 2. Calificación por componentes:
J33: Variable | K33: Rangos | L33: Puntaje actual
J34: =+Autodiagnóstico!C11 -> Ambiente de Control | K34: 100 | L34: =+Autodiagnóstico!D11 -> 77.045455
J35: =+Autodiagnóstico!C36 -> Gestión de los riesgos institucionales | K35: 100 | L35: =+Autodiagnóstico!D36 -> 73.035714
J36: =+Autodiagnóstico!C64 -> Actividades de Control | K36: 100 | L36: =+Autodiagnóstico!D64 -> 69.782609
J37: =+Autodiagnóstico!C87 -> Información y Comunicación | K37: 100 | L37: =+Autodiagnóstico!D87 -> 82.75
J38: =+Autodiagnóstico!C107 -> Monitoreo o supervisión continua | K38: 100 | L38: =+Autodiagnóstico!D107 -> 87.173913
C49: 3. Calificación por categorías:
K51: Categorías del componente 1:
J52: =+Autodiagnóstico!C11 -> Ambiente de Control
J56: Categorías | K56: Niveles | L56: Calificación
J57: =+Autodiagnóstico!E11 -> Diseño adecuado y efectivo del componente Ambiente de Control | K57: 100 | L57: =+Autodiagnóstico!F11 -> 86
J58: =+Autodiagnóstico!E16 -> Responsabilidades de la Alta dirección y Comité Institucional de Coordinación de Control Interno (línea estratégica) | K58: 100 | L58: =+Autodiagnóstico!F16 -> 70
J59: =+Autodiagnóstico!E20 -> Responsabilidades gerentes públicos y líderes de proceso (primera Línea de defensa) | K59: 100 | L59: =+Autodiagnóstico!F20 -> 73.333333
J60: =+Autodiagnóstico!E25 -> Responsabilidades de los servidores encargados del monitoreo y evaluación de controles y gestión del riesgo (segunda línea de defensa) | K60: 100 | L60: =+Autodiagnóstico!F25 -> 75
J61: =+Autodiagnóstico!E31 -> Responsabilidades del área de control interno (tercera línea de defensa) | K61: 100 | L61: =+Autodiagnóstico!F31 -> 78
K76: Categorías del componente 2
J77: =+Autodiagnóstico!C36 -> Gestión de los riesgos institucionales
J80: Acciones | K80: Niveles | L80: Calificación
J81: =+Autodiagnóstico!E36 -> Diseño adecuado y efectivo del componente Gestión de Riesgos | K81: 100 | L81: =+Autodiagnóstico!F36 -> 74
J82: =+Autodiagnóstico!E41 -> Responsabilidades de la Alta dirección y Comité Institucional de Coordinación de Control Interno (línea estratégica) | K82: 100 | L82: =+Autodiagnóstico!F41 -> 75
J83: =+Autodiagnóstico!E46 -> Responsabilidades gerentes públicos y líderes de proceso (primera Línea de defensa) | K83: 100 | L83: =+Autodiagnóstico!F46 -> 67.5
J84: =+Autodiagnóstico!E50 -> Responsabilidades de los servidores encargados del monitoreo y evaluación de controles y gestión del riesgo (segunda línea de defensa) | K84: 100 | L84: =+Autodiagnóstico!F50 -> 73.333333
J85: =+Autodiagnóstico!E59 -> Responsabilidades del área de control interno | K85: 100 | L85: =+Autodiagnóstico!F59 -> 74
K101: Categorías del componente 3:
K102: =+Autodiagnóstico!C64 -> Actividades de Control
J105: Categorías | K105: Niveles | L105: Calificación
J106: =+Autodiagnóstico!E64 -> Diseño adecuado y efectivo del componente Actividades de Control | K106: 100 | L106: =+Autodiagnóstico!F64 -> 70
J107: =+Autodiagnóstico!E67 -> Responsabilidades de la Alta dirección y Comité Institucional de Coordinación de Control Interno (línea estratégica) | K107: 100 | L107: =+Autodiagnóstico!F67 -> 70
J108: =+Autodiagnóstico!E69 -> Responsabilidades gerentes públicos y líderes de proceso (primera Línea de defensa) | K108: 100 | L108: =+Autodiagnóstico!F69 -> 73
J109: =+Autodiagnóstico!E74 -> Responsabilidades de los servidores encargados del monitoreo y evaluación de controles y gestión del riesgo (segunda línea de defensa) | K109: 100 | L109: =+Autodiagnóstico!F74 -> 70
J110: =+Autodiagnóstico!E82 -> Responsabilidades del área de control interno | K110: 100 | L110: =+Autodiagnóstico!F82 -> 66
K126: Categorías del componente 4:
K127: =+Autodiagnóstico!C87 -> Información y Comunicación
J130: Categorías | K130: Niveles | L130: Calificación
J131: =+Autodiagnóstico!E87 -> Diseño adecuado y efectivo del componente Información y Comunicación | K131: 100 | L131: =+Autodiagnóstico!F87 -> 76.666667
...

Sheet Plan de Acción
C4: PLAN DE IMPLEMENTACIÓN CONTROL INTERNO
C6: COMPONENTES | D6: CATEGORÍAS | E6: ACTIVIDADES DE GESTIÓN | F6: PUNTAJE | G6: GUÍAS Y NORMAS TÉCNICAS | H6: BUENAS PRÁCTICAS E INNOVACIÓN | I6: NORMATIVIDAD | J6: OTROS | K6: DISEÑE ALTERNATIVAS DE MEJORA | L6: MEJORAS A IMPLEMENTAR (INCLUIR PLAZO DE LA IMPLEMENTACIÓN) | M6: EVALUACIÓN DE LA EFICACIA DE LAS ACCIONES IMPLEMENTADAS
C8: Ambiente de Control | D8: Diseño adecuado y efectivo del componente Ambiente de Control | E8: =+Autodiagnóstico!G11 -> Demostrar el compromiso con la integridad (valores) y principios del servicio público, por parte detodos los servidores de la entidad, independientemente de las funciones que desepeñan | F8: =+Autodiagnóstico!H11 -> 80
E9: =+Autodiagnóstico!G12 -> Cumplir las funciones de supervisión del desempeño del Sistema de Control Interno y determinar las mejoras a que haya lugar, por parte del Comité Institucional de Coordinación de Control Interno | F9: =+Autodiagnóstico!H12 -> 80
E10: =+Autodiagnóstico!G13 -> Asumir la responsabilidad y el compromiso de establecer los niveles de responsabilidad y autoridad apropiados para la consecución de los objetivos institucionales, por parte de la alta dirección | F10: =+Autodiagnóstico!H13 -> 90
E11: =+Autodiagnóstico!G14 -> Dar carácter estratégico a la gestión del talento humano de manera que todas sus actividades estén alineadas con los objetivos de la entidad | F11: =+Autodiagnóstico!H14 -> 90
E12: =+Autodiagnóstico!G15 -> Asignar en personas idóneas, las responsabilidades para la gestión de los riesgos y del control | F12: =+Autodiagnóstico!H15 -> 90
D13: Responsabilidades de la Alta dirección y Comité Institucional de Coordinación de Control Interno (línea estratégica) | E13: =+Autodiagnóstico!G16 -> Cumplir con los estándares de conducta y la práctica de los principios del servicio público | F13: =+Autodiagnóstico!H16 -> 60
E14: =+Autodiagnóstico!G17 -> Orientar el Direccionamiento Estratégico y la Planeación Institucional | F14: =+Autodiagnóstico!H17 -> 70
E15: =+Autodiagnóstico!G18 -> Determinar las políticas y estrategias que aseguran que la estructura, procesos, autoridad y responsabilidad estén claramente definidas para el logro de los objetivos de la entidad | F15: =+Autodiagnóstico!H18 -> 70
E16: =+Autodiagnóstico!G19 -> Desarrollar los mecanismos incorporados en la Gestión Estratégica del Talento Humano | F16: =+Autodiagnóstico!H19 -> 80
D17: Responsabilidades gerentes públicos y líderes de proceso (primera Línea de defensa) | E17: =+Autodiagnóstico!G20 -> Promover y cumplir, a través de su ejemplo, los estándares de conducta y la práctica de los principios del servicio público, en el marco de integridad | F17: =+Autodiagnóstico!H20 -> 70
E18: =+Autodiagnóstico!G21 -> Evaluar el cumplimiento de los estándares de conducta y la práctica de la integridad (valores) y principios del servicio público de sus equipos de trabajo | F18: =+Autodiagnóstico!H21 -> 70
E19: =+Autodiagnóstico!G22 -> Proveer información a la alta dirección sobre el funcionamiento de la entidad y el desempeño de los responsables en el cumplimiento de los objetivos, para tomar decisiones a que haya lugar | F19: =+Autodiagnóstico!H22 -> 80
E20: =+Autodiagnóstico!G23 -> Cumplir las políticas y estrategias establecidas para el desarrollo de los servidores a su cargo, evaluar su desempeño y establecer las medidas de mejora | F20: =+Autodiagnóstico!H23 -> 0
E21: =+Autodiagnóstico!G24 -> Asegurar que las personas y actividades a su cargo, estén adecuadamente alineadas con la administración | F21: =+Autodiagnóstico!H24 -> 0
D22: Responsabilidades de los servidores encargados del monitoreo y evaluación de controles y gestión del riesgo (segunda línea de defensa) | E22: =+Autodiagnóstico!G25 -> Aplicar los estándares de conducta e Integridad (valores) y los principios del servicio público | F22: =+Autodiagnóstico!H25 -> 60
E23: =+Autodiagnóstico!G26 -> Facilitar la implementación, monitorear la apropiación de dichos estándares por parte de los servidores públicos y alertar a los líderes de proceso, cuando sea el caso | F23: =+Autodiagnóstico!H26 -> 80
E24: =+Autodiagnóstico!G27 -> Apoyar a la alta dirección, los gerentes públicos y los líderes de proceso para un adecuado y efectivo ejercicio de la gestión de los riesgos que afectan el cumplimiento de los objetivos y metas organizacionales | F24: =+Autodiagnóstico!H27 -> 80
E25: =+Autodiagnóstico!G28 -> Trabajar coordinadamente con los directivos y demás responsables del cumplimiento de los objetivos de la entidad | F25: =+Autodiagnóstico!H28 -> 75
E26: =+Autodiagnóstico!G29 -> Monitorear y supervisar el cumplimiento e impacto del plan de desarrollo del talento humano y determinar las acciones de mejora correspondientes, por parte del área de talento humano | F26: =+Autodiagnóstico!H29 -> 80
E27: =+Autodiagnóstico!G30 -> Analizar e informar a la alta dirección, los gerentes públicos y los líderes de proceso sobre los resultados de la evaluación del desempeño y se toman acciones de mejora y planes de mejoramiento individuales, rotación de personal | F27: =+Autodiagnóstico!H30 -> 0
D28: Responsabilidades del área de control interno (tercera línea de defensa) | E28: =+Autodiagnóstico!G31 -> Evaluar la eficacia de las estrategias de la entidad para promover la integridad en el servicio público, especialmente, si con ella se orienta efectivamente el comportamiento de los servidores hacia el cumplimiento de los estándares de conducta e Integridad (valores) y los principios del servicio público; y si apalancan una gestión permanente de los riesgos y la eficacia de los controles | F28: =+Autodiagnóstico!H31 -> 70
E29: =+Autodiagnóstico!G32 -> Evaluar el diseño y efectividad de los controles y provee información a la alta dirección y al Comité de Coordinación de Control Interno referente a la efectividad y utilidad de los mismos | F29: =+Autodiagnóstico!H32 -> 80
E30: =+Autodiagnóstico!G33 -> Proporcionar información sobre la idoneidad y efectividad del esquema operativo de la entidad, el flujo de información, las políticas de operación, y en general, el ejercicio de las responsabilidades en la consecución de los objetivos | F30: =+Autodiagnóstico!H33 -> 80
E31: =+Autodiagnóstico!G34 -> Ejercer la auditoría interna de manera técnica y acorde con las políticas y prácticas apropiadas | F31: =+Autodiagnóstico!H34 -> 80
E32: =+Autodiagnóstico!G35 -> Proporcionar información sobre el cumplimiento de responsabilidades específicas de control interno | F32: =+Autodiagnóstico!H35 -> 80
C33: Gestión de los riesgos institucionales | D33: Diseño adecuado y efectivo del componente Gestión de Riesgos | E33: =+Autodiagnóstico!G36 -> Identificar acontecimientos potenciales que, de ocurrir, afectarían a la entidad | F33: =+Autodiagnóstico!H36 -> 75
E34: =+Autodiagnóstico!G37 -> Brindar atención prioritaria a los riesgos de carácter negativo y de mayor impacto potencial | F34: =+Autodiagnóstico!H37 -> 75
E35: =+Autodiagnóstico!G38 -> Considerar la probabilidad de fraude que pueda afectar la adecuada gestión institucional | F35: =+Autodiagnóstico!H38 -> 60
E36: =+Autodiagnóstico!G39 -> Identificar y evaluar los cambios que pueden afectar los riesgos al Sistema de Control Interno | F36: =+Autodiagnóstico!H39 -> 80
E37: =+Autodiagnóstico!G40 -> Dar cumplimiento al artículo 73 de la Ley 1474 de 2011, relacionado con la prevención de los riesgos de corrupción, - mapa de riesgos de corrupción. | F37: =+Autodiagnóstico!H40 -> 80
D38: Responsabilidades de la Alta dirección y Comité Institucional de Coordinación de Control Interno (línea estratégica) | E38: =+Autodiagnóstico!G41 -> Establecer objetivos institucionales alineados con el propósito fundamental, metas y estrategias de la entidad | F38: =+Autodiagnóstico!H41 -> 65
E39: =+Autodiagnóstico!G42 -> Establecer la Política de Administración del Riesgo | F39: =+Autodiagnóstico!H42 -> 80
E40: =+Autodiagnóstico!G43 -> Asumir la responsabilidad primaria del Sistema de Control Interno y de la identificación y evaluación de los cambios que podrían tener un impacto significativo en el mismo | F40: =+Autodiagnóstico!H43 -> 80
E41: =+Autodiagnóstico!G44 -> Específicamente el Comité Institucional de Coordinación de Control Interno, evaluar y dar línea sobre la administración de los riesgos en la entidad | F41: =+Autodiagnóstico!H44 -> 70
E42: =+Autodiagnóstico!G45 -> Realimentar a la alta dirección sobre el monitoreo y efectividad de la gestión del riesgo y de los controles. Así mismo, hacer seguimiento a su gestión, gestionar los riesgos y aplicar los controles | F42: =+Autodiagnóstico!H45 -> 80
D43: Responsabilidades gerentes públicos y líderes de proceso (primera Línea de defensa) | E43: =+Autodiagnóstico!G46 -> Identificar y valorar los riesgos que pueden afectar el logro de los objetivos institucionales | F43: =+Autodiagnóstico!H46 -> 70
E44: =+Autodiagnóstico!G47 -> Definen y diseñan los controles a los riesgos | F44: =+Autodiagnóstico!H47 -> 70
E45: =+Autodiagnóstico!G48 -> A partir de la política de administración del riesgo, establecer sistemas de gestión de riesgos y las responsabilidades para controlar riesgos específicos bajo la supervisión de la alta dirección. Con base en esto, establecen los mapas de riesgos | F45: =+Autodiagnóstico!H48 -> 70
...
