Workbook
Name Acciones_Categoría_3: '[1]Ponderaciones y parámetros'!$K$6:$N$6
Name Nombre: #REF!
Name Nombre: #REF!
Name Simulador: [1]Listas!$B$2:$B$4

Sheet Inicio
C3: AUTODIAGNÓSTICO DE GESTIÓN
C5: CÓDIGO DE INTEGRIDAD
D8: INSTRUCCIONES DE DILIGENCIAMIENTO
D11: AUTODIAGNÓSTICO
D14: PLAN DE ACCIÓN

Sheet Instrucciones
C3: AUTODIAGNÓSTICO DE GESTIÓN CÓDIGO DE INTEGRIDAD
C5: INSTRUCCIONES DE DILIGENCIAMIENTO
C7: Este archivo hace parte de un conjunto de herramientas de Autodiagnóstico que permitirán a cada entidad desarrollar un ejercicio de valoración del estado de cada una de las dimensiones en las cuales se estructura el Modelo Integrado de Gestión y Planeación, con el propósito de que la entidad logre contar con una línea base respecto a los aspectos que debe fortalecer, los cuales deben ser incluídos en su planeación institucional. Este puede ser utilizado en el momento en que lo considere pertinente, sin implicar esto reporte alguno a Función Pública, a otras instancias del Gobierno o a organismos de Control.
C12: A continuación, se explica en detalle como se debe diligenciar.
C15: Autodiagnóstico:
C17: Está compuesto por las siguientes columnas:
C19: - | D19: Componentes: son los grandes temas que enmarcan la política objeto de medición.
C20: - | D20: Calificación: puntaje automático obtenido como resultado de la autocalificación que haga en el avance de la política.
C21: - | D21: Categoría: corresponde a las acciones que la entidad debe contemplar para el avance de la respectiva política.
C22: - | D22: Calificación: puntaje automatico obtenido como resultado de la autocalificación que haga en el avance de la política.
C23: - | D23: Actividades de Gestión: son las actividades puntuales que la entidad debe estar implementando para considerar el avance en la implementación de la política.
C24: - | D24: Puntaje: es la casilla donde la entidad se autocalificará de acuerdo con las actividades descritas, en una escala de 0 a 100
C25: - | D25: Observaciones: en este espacio, podrá hacer las anotaciones o comentarios que considere pertinentes
C27: Las ÚNICAS celdas que debe diligenciar son la del nombre de la Entidad y la columna de Puntaje (resaltada en azúl). La de observaciones de manera opcional si lo considera necesario.
C29: Para la calificación, se estableció una escala de 5 niveles así:
C31: Puntaje | D31: Nivel | E31: Color
C32: 0 - 20 | D32: 1
C33: 21 - 40 | D33: 2
C34: 41 - 60 | D34: 3
C35: 61- 80 | D35: 4
C36: 81- 100 | D36: 5
C38: Cuando se ingresa un puntaje, esa columna automáticamente mostrará el color que corresponde según la escala anterior. Así mismo, la calificación de las categorías, de los componentes y la calificación total se generan automáticamente. Recuerde sólo ingresar puntajes de 0 a 100
C41: Los resultados finales solo reflejarán el resultado de los puntajes diligenciados. Si alguna casilla se deja en blanco, no contará para los resultados
C43: Si usted considera que alguna de las actividades no aplica para su Entidad por sus características particulares, no diligencie puntaje, y en la columna Observaciones escriba "No aplica". Por ejemplo, si en su entidad no se efectúan negociaciones colectivas por no haber sindicatos, en el ítem "Negociación Colectiva" usted no deberá ingresar ningún puntaje y deberá escribir en la columna Observaciones "No aplica"
C47: ES MUY IMPORTANTE que los puntajes ingresados sean lo más objetivos posible, y que exista un soporte para cada uno de ellos. El propósito principal es identificar oportunidades de mejora, para lo cual es fundamental ser objetivos en los puntajes ingresados.
C50: Cuando finalice de calificar las actividades de gestión, podrá ver de manera gráfica los principales resultados, haciendo click en el botón GRÁFICAS, o regresar al menú principal.
C53: Gráficas:
C55: En esta hoja se podrán visualizar de una manera más clara y sencilla los resultados obtenidos. Estas se generarán automáticamente una vez sea diligenciado el autodiagnóstico.
C57: En la primera gráfica, se muestra el puntaje total obtenido por la entidad, comparado con cada uno de los niveles de calificación. De esta manera podrá visualizar en que nivel se encuentra actualmente y cuantos le faltan para alcanzar el maximo puntaje.
C60: En la segunda gráfica se presentan las calificaciones obtenidas por cada uno de los componentes que integran la política. Igualmente se comparan con los 5 niveles establecidos.
C62: Y por último, se muestra la calificación por categorías. Dado que el número de categorías es muy grande, se dividieron en varias gráficas.
C65: En conjunto, estos resultados le permitirán identificar cuales son las categorías y componentes que presentan un mayor rezago, o cuya implementación está más retrasada, y así poder centrar su prioridad al momento de realizar el plan de implementación.
C69: Plan de Acción:
... C75: 1. Documentación y guías de referencia (color gris): contiene toda la información y documentos de consulta que pueden ser útiles y deben ser de conocimiento
C77: - | D77: Guías normas y técnicas
C78: - | D78: Buenas prácticas e innovación
C79: - | D79: Normatividad
C80: - | D80: Otros
C82: 2. Planeación y Ruta de acción (color naranja): la idea es generar un plan de acción con base en el diagnóstico realizado. Los elementos mínimos que se proponen para ello, son:
C84: - | D84: Diseñar alternativas de mejora
C85: - | D85: Definir las mejoras a implementar, incluyendo el plazo y los responsables de la implementación
C86: - | D86: Evaluar la eficacia de las acciones implementadas y volver a diligenciar el autodiagnóstico
C88: Aunque el cuadro puede ser diligenciado en su totalidad, se recomienda iniciar y darle prioridad a aquellas actividades que obtuvieron menores puntajes y que se encuentran en color rojo, naranja y amarillo.
K98: INICIO

Sheet Autodiagnóstico
C3: AUTODIAGNÓSTICO DE GESTIÓN CÓDIGO DE INTEGRIDAD
C5: ENTIDAD | G5: CALIFICACIÓN TOTAL
C6: AGUAS DEL CESAR S.A E.S.P | G6: =IF(SUM(H10:H30)=0,"",AVERAGE(H10:H30)) -> 87.142857
C8: COMPONENTES | D8: CALIFICACIÓN | E8: CATEGORÍA | F8: CALIFICACIÓN | G8: ACTIVIDADES DE GESTIÓN | H8: PUNTAJE (0 - 100) | I8: OBSERVACIONES
C10: Condiciones institucionales idóneas para la implementación y gestión del Código de Integridad | D10: =IF(SUM(H10:H21)=0,"",AVERAGE(H10:H21)) -> 85 | E10: Realizar el diagnóstico del estado actual de la entidad en temas de integridad | F10: =IF(SUM(H10:H13)=0,"",AVERAGE(H10:H13)) -> 90 | G10: A partir de los resultados de FURAG, identificar y documentar las debilidades y fortalezas de la implementación del Código de Integridad. | H10: 90 | L10: INICIO
G11: A partir de los resultados de evaluación en el Comité de Integridad, identificar y documentar las debilidades y fortalezas en la implementación del Código. | H11: 90
G12: Diagnosticar si las estrategias de comunicación que empleó la entidad para promover el Código de Integridad son idóneas. | H12: 90 | L12: GRÁFICAS
G13: Socializar los resultados obtenidos en el periodo anterior sobre la implementación del Código de Integridad. | H13: 90
E14: Plan de mejora en la implementación del Código de Integridad. Paso 1.Generar espacios de retroalimentación que permitan recolectar ideas que ayuden a mejorar la implementación del Código de Integridad. | F14: =IF(SUM(H14:H15)=0,"",AVERAGE(H14:H15)) -> 90 | G14: Determinar el alcance de las estrategias de implementación del Código de Integridad, para establecer actividades concretas que mejoren la apropiación y/o adaptación al Código. | H14: 90
G15: Establecer mecanismos de retroalimentación entre el comité y los servidores públicos, tales como grupos de intercambio, encuestas, correo electrónico, entre otras, que corroboren la confidencialidad de los servidores y ayuden a mejorar las ideas de implementación y gestión. | H15: 90
E16: Plan de mejora en la implementación del Código de Integridad. Paso 2. Fomentar los mecanismos de sensibilización, inducción, reinducción y afianzamiento de los contenidos del Código de Integridad. | F16: =IF(SUM(H16:H21)=0,"",AVERAGE(H16:H21)) -> 80 | G16: Definir los canales y las metodologías que se emplearán para desarrollar las actividades de implementación del Código de Integridad. | H16: 80
G17: Definir las estrategias para la inducción o reinducción de los servidores públicos con el propósito de afianzar las temáticas del Código de integridad. | H17: 90
G18: Definir el presupuesto asociado a las actividades que se implementarán en la entidad para promover el Código de Integridad | H18: 80
G19: Establecer el cronograma de ejecución de las actividades de implementación del Código de Integridad. | H19: 80
G20: Definir los roles y responsabilidades del Comité de integridad en cabeza de Departamento de Gestión Humana. | H20: 80
G21: Construir un mecanismo de recolección de información (Encuesta y/o grupos de intercambio) en el cual la entidad pueda hacer seguimiento a las observaciones de los servidores públicos en el proceso de la implementación del Código de Integridad. | H21: 70
C22: Promoción de la gestión del Código de Integridad | D22: =IF(SUM(H22:H30)=0,"",AVERAGE(H22:H30)) -> 90 | E22: Ejecutar el Plan de gestión del Código de integridad | F22: =IF(SUM(H22:H27)=0,"",AVERAGE(H22:H27)) -> 90 | G22: Preparar las actividades que se implementarán en el afianzamiento del Código de Integridad. | H22: 90
G23: Divulgar las actvidades del Código de integridad por distintos canales, logrando la participación activa de los servidores públicos a ser parte de las buenas practicas. | H23: 90
G24: Implementar las actividades con los servidores públicos de la entidad, habilitando espacios presenciales y virtuales para dicho aprendizaje. | H24: 90
G25: Habilitar los canales presenciales y virtuales definidos en el plan para consultar, discutir y retroalimentar con los servidores públicos y grupos de intercambio sus recomendaciones u objeciones a la actividad que la entidad ejecutó para el desarrollo de su gestión. | H25: 90
G26: Analizarla actividad que se ejecutó, así como las recomendaciones u objeciones recibidas en el proceso de participación y realizar los ajustes a que haya lugar. | H26: 90
G27: Socializar los resultados de la consolidación de las actividades del Código de Integridad. | H27: 90
E28: Evaluación de Resultados de la implementación del Código de Integridad | F28: =IF(SUM(H28:H30)=0,"",AVERAGE(H28:H30)) -> 90 | G28: Analizar los resultados obtenidos en la implementación de las acciones del Código de Integración: 1. Identificar el número de actividades en las que se involucró al servidor público con los temas del Código. 2. Grupos de intercambio | H28: 90
G29: Reportar la actividad al repositorio web del Código de Integridad para su socialización y replica en otras entidades | H29: 90
G30: Documentar las buenas practicas de la entidad en materia de Integridada que permitan alimentar la próximo intervención del Código. | H30: 90

Sheet Gráficas
C3: RESULTADOS CÓDIGO DE INTEGRIDAD
C6: 1. Calificación total:
J11: Niveles | K11: Calificación
I12: =+Inicio!C5 -> CÓDIGO DE INTEGRIDAD | J12: 100 | K12: =+Autodiagnóstico!G6 -> 87.142857
C28: 2. Calificación por componentes:
J33: Variable | K33: Rangos | L33: Puntaje actual
J34: =+Autodiagnóstico!C10 -> Condiciones institucionales idóneas para la implementación y gestión del Código de Integridad | K34: 100 | L34: =+Autodiagnóstico!D10 -> 85
J35: =+Autodiagnóstico!C22 -> Promoción de la gestión del Código de Integridad | K35: 100 | L35: =+Autodiagnóstico!D22 -> 90
C51: 3. Calificación por categorías:
K53: Categorías del componente 1:
I54: =+Autodiagnóstico!C10 -> Condiciones institucionales idóneas para la implementación y gestión del Código de Integridad
K56: Acciones | L56: Niveles | M56: Calificación
K57: Realizar el diagnóstico del estado actual en temas de integridad | L57: 100 | M57: =+Autodiagnóstico!F10 -> 90
K58: Paso 1.Generar espacios de retroalimentación | L58: 100 | M58: =+Autodiagnóstico!F14 -> 90
K59: Paso 2. Fomentar los mecanismos de sensibilización, inducción, reinducción y afianzamiento | L59: 100 | M59: =+Autodiagnóstico!F16 -> 80
K77: Categorías del componente 2
K78: =+Autodiagnóstico!C22 -> Promoción de la gestión del Código de Integridad
J79: Acciones | K79: Niveles | L79: Calificación
J80: =+Autodiagnóstico!E22 -> Ejecutar el Plan de gestión del Código de integridad | K80: 100 | L80: =+Autodiagnóstico!F22 -> 90
J81: =+Autodiagnóstico!E28 -> Evaluación de Resultados de la implementación del Código de Integridad | K81: 100 | L81: =+Autodiagnóstico!F28 -> 90
K106: INICIO

Sheet Plan de Acción
C3: PLAN DE ACCIÓN CÓDIGO DE INTEGRIDAD
C5: COMPONENTES | D5: CATEGORÍAS | E5: ACTIVIDADES DE GESTIÓN | F5: PUNTAJE | G5: GUÍAS Y NORMAS TÉCNICAS | H5: BUENAS PRÁCTICAS E INNOVACIÓN | I5: NORMATIVIDAD | J5: DISEÑE ALTERNATIVAS DE MEJORA | K5: MEJORAS A IMPLEMENTAR (INCLUIR PLAZO DE LA IMPLEMENTACIÓN) | L5: EVALUACIÓN DE LA EFICACIA DE LAS ACCIONES IMPLEMENTADAS
C7: =+Autodiagnóstico!C10 -> Condiciones institucionales idóneas para la implementación y gestión del Código de Integridad | D7: =+Autodiagnóstico!E10 -> Realizar el diagnóstico del estado actual de la entidad en temas de integridad | E7: =+Autodiagnóstico!G10 -> A partir de los resultados de FURAG, identificar y documentar las debilidades y fortalezas de la implementación del Código de Integridad. | F7: =+Autodiagnóstico!H10 -> 90 | G7: Código de Integridad | H7: url del código de integridad en eva | I7: Decreto y/o resolución Código de Integridad - Decreto del MIPG v2
E8: =+Autodiagnóstico!G11 -> A partir de los resultados de evaluación en el Comité de Integridad, identificar y documentar las debilidades y fortalezas en la implementación del Código. | F8: =+Autodiagnóstico!H11 -> 90 | G8: Código de Integridad | H8: url del código de integridad en eva | I8: Decreto y/o resolución Código de Integridad - Decreto del MIPG v2
E9: =+Autodiagnóstico!G12 -> Diagnosticar si las estrategias de comunicación que empleó la entidad para promover el Código de Integridad son idóneas. | F9: =+Autodiagnóstico!H12 -> 90 | G9: Código de Integridad | H9: url del código de integridad en eva | I9: Decreto y/o resolución Código de Integridad - Decreto del MIPG v2
E10: =+Autodiagnóstico!G13 -> Socializar los resultados obtenidos en el periodo anterior sobre la implementación del Código de Integridad. | F10: =+Autodiagnóstico!H13 -> 90 | G10: Código de Integridad | H10: url del código de integridad en eva | I10: Decreto Código de Integridad
D11: =+Autodiagnóstico!E14 -> Plan de mejora en la implementación del Código de Integridad. Paso 1.Generar espacios de retroalimentación que permitan recolectar ideas que ayuden a mejorar la implementación del Código de Integridad. | E11: =+Autodiagnóstico!G14 -> Determinar el alcance de las estrategias de implementación del Código de Integridad, para establecer actividades concretas que mejoren la apropiación y/o adaptación al Código. | F11: =+Autodiagnóstico!H14 -> 90 | G11: Código de Integridad | H11: url del código de integridad en eva | I11: Decreto Código de Integridad
E12: =+Autodiagnóstico!G15 -> Establecer mecanismos de retroalimentación entre el comité y los servidores públicos, tales como grupos de intercambio, encuestas, correo electrónico, entre otras, que corroboren la confidencialidad de los servidores y ayuden a mejorar las ideas de implementación y gestión. | F12: =+Autodiagnóstico!H15 -> 90 | G12: Código de Integridad / Caja de Herramientas | H12: url del código de integridad en eva | I12: Decreto Código de Integridad
D13: =+Autodiagnóstico!E16 -> Plan de mejora en la implementación del Código de Integridad. Paso 2. Fomentar los mecanismos de sensibilización, inducción, reinducción y afianzamiento de los contenidos del Código de Integridad. | E13: =+Autodiagnóstico!G16 -> Definir los canales y las metodologías que se emplearán para desarrollar las actividades de implementación del Código de Integridad. | F13: =+Autodiagnóstico!H16 -> 80 | G13: Código de Integridad / Caja de Herramientas | H13: url del código de integridad en eva | I13: Decreto Código de Integridad
E14: =+Autodiagnóstico!G17 -> Definir las estrategias para la inducción o reinducción de los servidores públicos con el propósito de afianzar las temáticas del Código de integridad. | F14: =+Autodiagnóstico!H17 -> 90 | G14: Código de Integridad | H14: url del código de integridad en eva | I14: Decreto Código de Integridad
E15: =+Autodiagnóstico!G18 -> Definir el presupuesto asociado a las actividades que se implementarán en la entidad para promover el Código de Integridad | F15: =+Autodiagnóstico!H18 -> 80 | G15: Código de Integridad | H15: url del código de integridad en eva | I15: Decreto Código de Integridad
E16: =+Autodiagnóstico!G19 -> Establecer el cronograma de ejecución de las actividades de implementación del Código de Integridad. | F16: =+Autodiagnóstico!H19 -> 80 | G16: Código de Integridad | H16: url del código de integridad en eva | I16: Decreto Código de Integridad
E17: =+Autodiagnóstico!G20 -> Definir los roles y responsabilidades del Comité de integridad en cabeza de Departamento de Gestión Humana. | F17: =+Autodiagnóstico!H20 -> 80 | G17: Código de Integridad | H17: url del código de integridad en eva | I17: Decreto Código de Integridad
E18: =+Autodiagnóstico!G21 -> Construir un mecanismo de recolección de información (Encuesta y/o grupos de intercambio) en el cual la entidad pueda hacer seguimiento a las observaciones de los servidores públicos en el proceso de la implementación del Código de Integridad. | F18: =+Autodiagnóstico!H21 -> 70 | G18: Código de Integridad | H18: url del código de integridad en eva | I18: Decreto Código de Integridad
C19: =+Autodiagnóstico!C22 -> Promoción de la gestión del Código de Integridad | D19: =+Autodiagnóstico!E22 -> Ejecutar el Plan de gestión del Código de integridad | E19: =+Autodiagnóstico!G22 -> Preparar las actividades que se implementarán en el afianzamiento del Código de Integridad. | F19: =+Autodiagnóstico!H22 -> 90 | G19: Código de Integridad / Caja de Herramientas | H19: url del código de integridad en eva | I19: Decreto Código de Integridad
E20: =+Autodiagnóstico!G23 -> Divulgar las actvidades del Código de integridad por distintos canales, logrando la participación activa de los servidores públicos a ser parte de las buenas practicas. | F20: =+Autodiagnóstico!H23 -> 90 | G20: Código de Integridad / Caja de Herramientas | H20: url del código de integridad en eva | I20: Decreto Código de Integridad
E21: =+Autodiagnóstico!G24 -> Implementar las actividades con los servidores públicos de la entidad, habilitando espacios presenciales y virtuales para dicho aprendizaje. | F21: =+Autodiagnóstico!H24 -> 90 | G21: Código de Integridad | H21: url del código de integridad en eva | I21: Decreto Código de Integridad
E22: =+Autodiagnóstico!G25 -> Habilitar los canales presenciales y virtuales definidos en el plan para consultar, discutir y retroalimentar con los servidores públicos y grupos de intercambio sus recomendaciones u objeciones a la actividad que la entidad ejecutó para el desarrollo de su gestión. | F22: =+Autodiagnóstico!H25 -> 90 | G22: Código de Integridad | H22: url del código de integridad en eva | I22: Decreto Código de Integridad
E23: =+Autodiagnóstico!G26 -> Analizarla actividad que se ejecutó, así como las recomendaciones u objeciones recibidas en el proceso de participación y realizar los ajustes a que haya lugar. | F23: =+Autodiagnóstico!H26 -> 90 | G23: Código de Integridad | H23: url del código de integridad en eva | I23: Decreto Código de Integridad
E24: =+Autodiagnóstico!G27 -> Socializar los resultados de la consolidación de las actividades del Código de Integridad. | F24: =+Autodiagnóstico!H27 -> 90 | H24: url del código de integridad en eva
D25: =+Autodiagnóstico!E28 -> Evaluación de Resultados de la implementación del Código de Integridad | E25: =+Autodiagnóstico!G28 -> Analizar los resultados obtenidos en la implementación de las acciones del Código de Integración: 1. Identificar el número de actividades en las que se involucró al servidor público con los temas del Código. 2. Grupos de intercambio | F25: =+Autodiagnóstico!H28 -> 90 | G25: Código de Integridad | H25: url del código de integridad en eva | I25: Decreto Código de Integridad
E26: =+Autodiagnóstico!G29 -> Reportar la actividad al repositorio web del Código de Integridad para su socialización y replica en otras entidades | F26: =+Autodiagnóstico!H29 -> 90 | G26: Código de Integridad | H26: url del código de integridad en eva | I26: Decreto Código de Integridad
E27: =+Autodiagnóstico!G30 -> Documentar las buenas practicas de la entidad en materia de Integridada que permitan alimentar la próximo intervención del Código. | F27: =+Autodiagnóstico!H30 -> 90 | G27: Código de Integridad | H27: url del código de integridad en eva | I27: Decreto Código de Integridad
G36: INICIO
