Workbook
Name Acciones_Categoría_3: '[1]Ponderaciones y parámetros'!$K$6:$N$6
Name Nombre: #REF!
Name Nombre: #REF!
Name POLITICA: Inicio!#REF!
Name Simulador: [1]Listas!$B$2:$B$4

Sheet Inicio
C3: AUTODIAGNÓSTICO
C5: POLÍTICA DE SEGUIMIENTO Y EVALUACIÓN DEL DESEMPEÑO INSTITUCIONAL
D8: INSTRUCCIONES DE DILIGENCIAMIENTO
D11: AUTODIAGNÓSTICO
D14: PLAN DE ACCIÓN

Sheet Instrucciones
C3: AUTODIAGNÓSTICO POLÍTICA DE SEGUIMIENTO Y EVALUACIÓN DEL DESEMPEÑO INSTITUCIONAL
C5: INSTRUCCIONES DE DILIGENCIAMIENTO
C7: Este archivo hace parte de un conjunto de herramientas de Autodiagnóstico que permitirán a cada entidad desarrollar un ejercicio de valoración del estado de cada una de las dimensiones en las cuales se estructura el Modelo Integrado de Gestión y Planeación, con el propósito de que la entidad logre contar con una línea base respecto a los aspectos que debe fortalecer, los cuales deben ser incluídos en su planeación institucional. Este puede ser utilizado en el momento en que lo considere pertinente, sin implicar esto reporte alguno a Función Pública, a otras instancias del Gobierno o a organismos de Control.
C12: A continuación, se explica en detalle como se debe diligenciar
C14: Autodiagnóstico:
C16: Está compuesto por las siguientes columnas:
C18: - | D18: Componentes: son los grandes temas que enmarcan la política objeto de medición.
C19: - | D19: Calificación: puntaje automático obtenido como resultado de la autocalificación que haga en el avance de la política.
C20: - | D20: Categoría: corresponde a las acciones que la entidad debe contemplar para el avance de la respectiva política.
C21: - | D21: Calificación: puntaje automatico obtenido como resultado de la autocalificación que haga en el avance de la política.
C22: - | D22: Actividades de Gestión: son las actividades puntuales que la entidad debe estar implementando para considerar el avance en la implementación de la política.
C23: - | D23: Puntaje: es la casilla donde la entidad se autocalificará de acuerdo con las actividades descritas, en una escala de 0 a 100
C24: - | D24: Observaciones: en este espacio, podrá hacer las anotaciones o comentarios que considere pertinentes
C26: Las ÚNICAS celdas que debe diligenciar son la del nombre de la Entidad y la columna de Puntaje (resaltada en azúl). La de observaciones de manera opcional si lo considera necesario.
C28: Para la calificación, se estableció una escala de 5 niveles así:
C30: Puntaje | D30: Nivel | E30: Color
C31: 0 - 20 | D31: 1
C32: 21 - 40 | D32: 2
C33: 41 - 60 | D33: 3
C34: 61- 80 | D34: 4
C35: 81- 100 | D35: 5
C37: Cuando se ingresa un puntaje, esa columna automáticamente mostrará el color que corresponde según la escala anterior. Así mismo, la calificación de las categorías, de los componentes y la calificación total se generan automáticamente. Recuerde sólo ingresar puntajes de 0 a 100
C40: Los resultados finales solo reflejarán el resultado de los puntajes diligenciados. Si alguna casilla se deja en blanco, no contará para los resultados
C42: Si usted considera que alguna de las actividades no aplica para su Entidad por sus características particulares, no diligencie puntaje, y en la columna Observaciones escriba "No aplica". Por ejemplo, si en su entidad no se efectúan negociaciones colectivas por no haber sindicatos, en el ítem "Negociación Colectiva" usted no deberá ingresar ningún puntaje y deberá escribir en la columna Observaciones "No aplica"
C46: ES MUY IMPORTANTE que los puntajes ingresados sean lo más objetivos posible, y que exista un soporte para cada uno de ellos. El propósito principal es identificar oportunidades de mejora, para lo cual es fundamental ser objetivos en los puntajes ingresados.
C49: Cuando finalice de calificar las actividades de gestión, podrá ver de manera gráfica los principales resultados, haciendo click en el botón GRÁFICAS, o regresar al menú principal.
C53: Gráficas:
C55: En esta hoja se podrán visualizar de una manera más clara y sencilla los resultados obtenidos. Estas se generarán automáticamente una vez sea diligenciado el autodiagnóstico.
C58: En la primera gráfica se muestra el puntaje total obtenido por la entidad, comparado con cada uno de los niveles de calificación. De esta manera podrá visualizar en que nivel se encuentra actualmente y cuantos le faltan para alcanzar el máximo puntaje.
C61: En la segunda gráfica, se muestra la calificación por categorías.
C64: En conjunto, estos resultados le permitirán identificar cuales son las categorías y variables que presentan un mayor rezago, o cuya implementación está más retrasada, y así poder centrar su prioridad al momento de realizar el plan de implementación.
C68: Plan de Acción:
C70: Esta hoja contiene un cuadro que le permitirá establecer una planeación y una ruta de acción, con base en las actividades de gestión que fueron evaluadas.
... C74: Planeación y Ruta de acción (color naranja): la idea es generar un plan de acción con base en el diagnóstico realizado. Los elementos mínimos que se proponen para ello, son:
C76: - | D76: Diseñar alternativas de mejora
C77: - | D77: Definir las mejoras a implementar, incluyendo el plazo y los responsables de la implementación
C78: - | D78: Evaluar la eficacia de las acciones implementadas y volver a diligenciar el autodiagnóstico
C80: Aunque el cuadro puede ser diligenciado en su totalidad, se recomienda iniciar y darle prioridad a aquellas actividades que obtuvieron menores puntajes y que se encuentran en color rojo, naranja y amarillo.
K91: INICIO

Sheet Autodiagnóstico
C3: AUTODIAGNÓSTICO POLÍTICA DE SEGUIMIENTO Y EVALUACIÓN DEL DESEMPEÑO INSTITUCIONAL
C5: ENTIDAD | G5: CALIFICACIÓN TOTAL
C6: AGUAS DEL CESAR S.A E.S.P | G6: =IF(SUM(H10:H39)=0,"",AVERAGE(H10:H39)) -> 74
C8: COMPONENTES | D8: CALIFICACIÓN | E8: CATEGORÍAS | F8: CALIFICACIÓN | G8: ACTIVIDADES DE GESTIÓN | H8: PUNTAJE (0 - 100) | I8: OBSERVACIONES
C10: Seguimiento y evaluación del desempeño institucional | D10: =IF(SUM(H10:H39)=0,"",AVERAGE(H10:H39)) -> 74 | E10: Diseño del proceso de evaluación | F10: =IF(SUM(H10:H15)=0,"",AVERAGE(H10:H15)) -> 93.333333 | G10: Asignar en un área o servidor la responsabilidad de liderar el proceso de seguimiento y evaluación en la entidad (áreas de planeación) | H10: 100 | I10: La entidad cuenta con una oficina Asesora de Planeación, con 3 profesionales.
G11: Considerar la evaluación como una práctica permanente en la gestión de la entidad | H11: 100 | L11: INICIO
G12: Considerar la evaluación como un proceso encaminado a promover la buena gestión y mejorar el desempeño institucional | H12: 100
G13: Lograr integralidad y sinergia entre el seguimiento y la evaluación de todos los procesos de gestión de la entidad | H13: 100
G14: Identificar variables que describen los diferentes aspectos que se quieren medir o evaluar | H14: 80 | L14: GRÁFICAS
G15: Diseñar métodos cuantitativos y cualitativos de seguimiento y evaluación de la gestión y el desempeño institucional (indicadores) | H15: 80
E16: Calidad de la evaluación | F16: =IF(SUM(H16:H23)=0,"",AVERAGE(H16:H23)) -> 70 | G16: Verificar que los indicadores diseñados sean comprensibles para todo tipo de usuarios, describan las situaciones que se pretenden medir, sean estimados periódicamente, puedan ser consultados de manera oportuna, cuenten con línea base para su medición, sean insumos para la toma de decisiones y sean revisados y mejorados continuamente | H16: 60
G17: Utilizar o aplicar los indicadores para hacer seguimiento y evaluación de su gestión | H17: 60
G18: Identificar, a partir del uso o aplicación de los indicadores, los avances alcanzados en torno a los objetivos y resultados | H18: 60
G19: Consolidar, organizar y en lo posible sistematizar la información proveniente del seguimiento y evaluación | H19: 80
G20: Documentar la información proveniente del seguimiento y evaluación (informes, reportes, tableros de control, entre otros) | H20: 100
G21: Desarrollar ejercicios de autoevaluación, por parte de los líderes, a planes, programas y proyectos | H21: 70
G22: Realizar ejercicios de evaluación independiente (auditorías internas) | H22: 60
G23: Validar la información generada en los procesos de evaluación para garantizar que sea confiable, comprensible y útil para la toma de decisiones | H23: 70
E24: Utilidad de la información | F24: =IF(SUM(H24:H33)=0,"",AVERAGE(H24:H33)) -> 61 | G24: Utilizar la información proveniente de los ejercicios de seguimiento y evaluación para formular o reformular planes, programas o proyectos | H24: 50
G25: Utilizar la información proveniente de los ejercicios de seguimiento y evaluación para identificar la relación entre la ejecución presupuestal y la obtención de resultados | H25: 50
G26: Utilizar la información proveniente de los ejercicios de seguimiento y evaluación para mejorar los resultados de la ejecución presupuestal | H26: 60
G27: Utilizar la información proveniente de los ejercicios de seguimiento y evaluación para aportar al proceso de aprendizaje organizacional | H27: 60
G28: Utilizar la información proveniente de los ejercicios de seguimiento y evaluación para identificar los aspectos donde se puede mejorar | H28: 60
G29: Utilizar la información proveniente de los ejercicios de seguimiento y evaluación para definir o redefinir cursos de acción, trayectorias de implementación y objetivos, metas y resultados. | H29: 60
G30: Utilizar la información proveniente de los ejercicios de seguimiento y evaluación para rendir cuentas a la ciudadanía y a los organismos de control | H30: 60
G31: Difundir o comunicar interna y externamente la información proveniente del seguimiento y la evaluación | H31: 60
G32: Identificar si las necesidades o problemas de la ciudadanía (grupos de valor) estuvieron adecuadamente diagnosticados | H32: 70
G33: Identificar si el planteamiento de objetivos y de resultados apunta a resolver los problemas de la ciudadanía (grupos de valor) | H33: 80
E34: Efectividad de la evaluación | F34: =IF(SUM(H34:H39)=0,"",AVERAGE(H34:H39)) -> 81.666667 | G34: Evaluar organización el logro de las metas y resultados establecidos en su planeación a fin de identificar las brechas entre los resultados alcanzados y los objetivos planteados | H34: 80
G35: Evaluar organización el logro de las metas y resultados establecidos en su planeación a fin de hacer una revisión de los objetivos y de las acciones que se establecieron para alcanzarlos | H35: 100
G36: Evaluar organización el logro de las metas y resultados establecidos en su planeación a fin de tener evidencias para próximos ejercicios de planeación | H36: 100
G37: Evaluar organización el logro de las metas y resultados establecidos en su planeación a fin de fortalecer la capacidad para aprender sobre sus propios procesos, fortalecer los aciertos y replantear lo que no funciona | H37: 70
G38: Valorar la calidad del gasto público | H38: 70
G39: Determinar la coherencia entre los procesos de gestión, la ejecución presupuestal y los resultados logrados alcanzados | H39: 70

Sheet Gráficas
C3: RESULTADOS POLÍTICA DE SEGUIMIENTO Y EVALUACIÓN DEL DESEMPEÑO INSTITUCIONAL
C6: 1. Calificación total:
J11: Niveles | K11: Calificación
I12: =+Inicio!C5 -> POLÍTICA DE SEGUIMIENTO Y EVALUACIÓN DEL DESEMPEÑO INSTITUCIONAL | J12: 100 | K12: =+Autodiagnóstico!G6 -> 74
C28: 2. Calificación por categorías:
I31: Acciones | J31: Niveles | K31: Calificación
I32: =Autodiagnóstico!E10 -> Diseño del proceso de evaluación | J32: 100 | K32: =+Autodiagnóstico!F10 -> 93.333333
I33: =Autodiagnóstico!E16 -> Calidad de la evaluación | J33: 100 | K33: =+Autodiagnóstico!F16 -> 70
I34: =Autodiagnóstico!E24 -> Utilidad de la información | J34: 100 | K34: =+Autodiagnóstico!F24 -> 61
I35: =Autodiagnóstico!E34 -> Efectividad de la evaluación | J35: 100 | K35: =+Autodiagnóstico!F34 -> 81.666667
K59: INICIO

Sheet Plan de Acción
C3: PLAN DE ACCIÓN POLÍTICA DE SEGUIMIENTO Y EVALUACIÓN DEL DESEMPEÑO INSTITUCIONAL
C5: COMPONENTES | D5: CATEGORÍAS | E5: ACTIVIDADES DE GESTIÓN | F5: PUNTAJE | G5: DISEÑE ALTERNATIVAS DE MEJORA | H5: MEJORAS A IMPLEMENTAR (INCLUIR PLAZO DE LA IMPLEMENTACIÓN) | I5: EVALUACIÓN DE LA EFICACIA DE LAS ACCIONES IMPLEMENTADAS
C7: Seguimiento y evaluación del desempeño institucional | D7: Diseño del proceso de evaluación | E7: =+Autodiagnóstico!G10 -> Asignar en un área o servidor la responsabilidad de liderar el proceso de seguimiento y evaluación en la entidad (áreas de planeación) | F7: =+Autodiagnóstico!H10 -> 100
E8: =+Autodiagnóstico!G11 -> Considerar la evaluación como una práctica permanente en la gestión de la entidad | F8: =+Autodiagnóstico!H11 -> 100
E9: =+Autodiagnóstico!G12 -> Considerar la evaluación como un proceso encaminado a promover la buena gestión y mejorar el desempeño institucional | F9: =+Autodiagnóstico!H12 -> 100
E10: =+Autodiagnóstico!G13 -> Lograr integralidad y sinergia entre el seguimiento y la evaluación de todos los procesos de gestión de la entidad | F10: =+Autodiagnóstico!H13 -> 100
E11: =+Autodiagnóstico!G14 -> Identificar variables que describen los diferentes aspectos que se quieren medir o evaluar | F11: =+Autodiagnóstico!H14 -> 80
E12: =+Autodiagnóstico!G15 -> Diseñar métodos cuantitativos y cualitativos de seguimiento y evaluación de la gestión y el desempeño institucional (indicadores) | F12: =+Autodiagnóstico!H15 -> 80
D13: Calidad de la evaluación | E13: =+Autodiagnóstico!G16 -> Verificar que los indicadores diseñados sean comprensibles para todo tipo de usuarios, describan las situaciones que se pretenden medir, sean estimados periódicamente, puedan ser consultados de manera oportuna, cuenten con línea base para su medición, sean insumos para la toma de decisiones y sean revisados y mejorados continuamente | F13: =+Autodiagnóstico!H16 -> 60
E14: =+Autodiagnóstico!G17 -> Utilizar o aplicar los indicadores para hacer seguimiento y evaluación de su gestión | F14: =+Autodiagnóstico!H17 -> 60
E15: =+Autodiagnóstico!G18 -> Identificar, a partir del uso o aplicación de los indicadores, los avances alcanzados en torno a los objetivos y resultados | F15: =+Autodiagnóstico!H18 -> 60
E16: =+Autodiagnóstico!G19 -> Consolidar, organizar y en lo posible sistematizar la información proveniente del seguimiento y evaluación | F16: =+Autodiagnóstico!H19 -> 80
E17: =+Autodiagnóstico!G20 -> Documentar la información proveniente del seguimiento y evaluación (informes, reportes, tableros de control, entre otros) | F17: =+Autodiagnóstico!H20 -> 100
E18: =+Autodiagnóstico!G21 -> Desarrollar ejercicios de autoevaluación, por parte de los líderes, a planes, programas y proyectos | F18: =+Autodiagnóstico!H21 -> 70
E19: =+Autodiagnóstico!G22 -> Realizar ejercicios de evaluación independiente (auditorías internas) | F19: =+Autodiagnóstico!H22 -> 60
E20: =+Autodiagnóstico!G23 -> Validar la información generada en los procesos de evaluación para garantizar que sea confiable, comprensible y útil para la toma de decisiones | F20: =+Autodiagnóstico!H23 -> 70
D21: Utilidad de la información | E21: =+Autodiagnóstico!G24 -> Utilizar la información proveniente de los ejercicios de seguimiento y evaluación para formular o reformular planes, programas o proyectos | F21: =+Autodiagnóstico!H24 -> 50
E22: =+Autodiagnóstico!G25 -> Utilizar la información proveniente de los ejercicios de seguimiento y evaluación para identificar la relación entre la ejecución presupuestal y la obtención de resultados | F22: =+Autodiagnóstico!H25 -> 50
E23: =+Autodiagnóstico!G26 -> Utilizar la información proveniente de los ejercicios de seguimiento y evaluación para mejorar los resultados de la ejecución presupuestal | F23: =+Autodiagnóstico!H26 -> 60
E24: =+Autodiagnóstico!G27 -> Utilizar la información proveniente de los ejercicios de seguimiento y evaluación para aportar al proceso de aprendizaje organizacional | F24: =+Autodiagnóstico!H27 -> 60
E25: =+Autodiagnóstico!G28 -> Utilizar la información proveniente de los ejercicios de seguimiento y evaluación para identificar los aspectos donde se puede mejorar | F25: =+Autodiagnóstico!H28 -> 60
E26: =+Autodiagnóstico!G29 -> Utilizar la información proveniente de los ejercicios de seguimiento y evaluación para definir o redefinir cursos de acción, trayectorias de implementación y objetivos, metas y resultados. | F26: =+Autodiagnóstico!H29 -> 60
E27: =+Autodiagnóstico!G30 -> Utilizar la información proveniente de los ejercicios de seguimiento y evaluación para rendir cuentas a la ciudadanía y a los organismos de control | F27: =+Autodiagnóstico!H30 -> 60
E28: =+Autodiagnóstico!G31 -> Difundir o comunicar interna y externamente la información proveniente del seguimiento y la evaluación | F28: =+Autodiagnóstico!H31 -> 60
E29: =+Autodiagnóstico!G32 -> Identificar si las necesidades o problemas de la ciudadanía (grupos de valor) estuvieron adecuadamente diagnosticados | F29: =+Autodiagnóstico!H32 -> 70
E30: =+Autodiagnóstico!G33 -> Identificar si el planteamiento de objetivos y de resultados apunta a resolver los problemas de la ciudadanía (grupos de valor) | F30: =+Autodiagnóstico!H33 -> 80
D31: Efectividad de la evaluación | E31: =+Autodiagnóstico!G34 -> Evaluar organización el logro de las metas y resultados establecidos en su planeación a fin de identificar las brechas entre los resultados alcanzados y los objetivos planteados | F31: =+Autodiagnóstico!H34 -> 80
E32: =+Autodiagnóstico!G35 -> Evaluar organización el logro de las metas y resultados establecidos en su planeación a fin de hacer una revisión de los objetivos y de las acciones que se establecieron para alcanzarlos | F32: =+Autodiagnóstico!H35 -> 100
E33: =+Autodiagnóstico!G36 -> Evaluar organización el logro de las metas y resultados establecidos en su planeación a fin de tener evidencias para próximos ejercicios de planeación | F33: =+Autodiagnóstico!H36 -> 100
E34: =+Autodiagnóstico!G37 -> Evaluar organización el logro de las metas y resultados establecidos en su planeación a fin de fortalecer la capacidad para aprender sobre sus propios procesos, fortalecer los aciertos y replantear lo que no funciona | F34: =+Autodiagnóstico!H37 -> 70
E35: =+Autodiagnóstico!G38 -> Valorar la calidad del gasto público | F35: =+Autodiagnóstico!H38 -> 70
E36: =+Autodiagnóstico!G39 -> Determinar la coherencia entre los procesos de gestión, la ejecución presupuestal y los resultados logrados alcanzados | F36: =+Autodiagnóstico!H39 -> 70
F45: INICIO
